BEGIN:VCALENDAR
VERSION:2.0
PRODID:-//ChamberMaster//Event Calendar 2.0//EN
METHOD:PUBLISH
X-PUBLISHED-TTL:P1H
REFRESH-INTERVAL:P1H
CALSCALE:GREGORIAN
BEGIN:VTIMEZONE
TZID:America/Chicago
BEGIN:DAYLIGHT
RRULE:FREQ=YEARLY;BYMONTH=3;BYDAY=2SU
DTSTART:20070101T000000
TZOFFSETFROM:-0600
TZOFFSETTO:-0500
TZNAME:Central Daylight Time
END:DAYLIGHT
BEGIN:STANDARD
RRULE:FREQ=YEARLY;BYMONTH=11;BYDAY=1SU
DTSTART:20070101T000000
TZOFFSETFROM:-0500
TZOFFSETTO:-0600
TZNAME:Central Standard Time
END:STANDARD
END:VTIMEZONE
BEGIN:VEVENT
DTSTART;TZID=America/Chicago:20260520T163000
DTEND;TZID=America/Chicago:20260520T180000
X-MICROSOFT-CDO-ALLDAYEVENT:FALSE
SUMMARY:May Member Connect
DESCRIPTION:Professional Women in Construction Chicago is looking forward to the May Member Connect on Wednesday\, May 20th hosted by Gold Sponsor company Reed Construction. Join fellow PWC Chicago members for a casual\, high-value meet-up where attendees deepen connections\, exchange insights\, and engage with industry peers in a dynamic\, small-group setting. \nReed Construction is a 5th generation\, family-owned general contractor with experience in tenant interiors\, capital improvement\, health care\, institutional\, education\, hospitality\, restaurants & retail. With deep-rooted knowledge of Chicago's building codes and construction regulations and long-standing relationships with subcontractors\, trade partners\, and local agencies\, its 130+ years of experience mark Reed as a trusted partner in building and transforming spaces across Chicago and the Midwest. \nThis is a PWC Member-Only event  it's easy to join today! Registration will close 5/13 or when capacity is reached.
X-ALT-DESC;FMTTYPE=text/html:<!DOCTYPE html><html><head><title></title></head><body aria-disabled="false"><p dir="ltr" style="line-height:1.38\;margin-top:0pt\;margin-bottom:0pt\;"><span style="font-size: 14px\; font-family: Arial\, Helvetica\, sans-serif\; color: rgb(0\, 0\, 0)\; background-color: transparent\; font-weight: 400\; font-style: normal\; font-variant: normal\; text-decoration: none\; vertical-align: baseline\; white-space: pre-wrap\;">Professional Women in Construction Chicago is looking forward to the May Member Connect on Wednesday\, May 20th hosted by Gold Sponsor company Reed Construction. Join fellow PWC Chicago members for a casual\, high-value meet-up where attendees deepen connections\, exchange insights\, and engage with industry peers in a dynamic\, small-group setting.&nbsp\;</span></p><p dir="ltr" style="line-height:1.38\;margin-top:0pt\;margin-bottom:0pt\;"><span style="font-family: Arial\,Helvetica\,sans-serif\;"><span style="font-size: 14px\;"><span style="color: rgb(0\, 0\, 0)\;"><br></span></span></span></p><p dir="ltr" style="line-height:1.38\;margin-top:0pt\;margin-bottom:0pt\;"><span style="font-family: Arial\,Helvetica\,sans-serif\;"><span style="font-size: 14px\;"><span style="color: rgb(0\, 0\, 0)\;"><span style="background-color: transparent\; font-weight: 400\; font-style: normal\; font-variant: normal\; text-decoration: none\; vertical-align: baseline\; white-space: pre-wrap\;">Reed Construction is a 5th generation\, family-owned general contractor with experience in tenant interiors\, capital improvement\, health care\, institutional\, education\, hospitality\, restaurants &amp\; retail. With deep-rooted knowledge of Chicago&rsquo\;s building codes and construction regulations and long-standing relationships with subcontractors\, trade partners\, and local agencies\, its 130+ years of experience mark Reed as a trusted partner in building and transforming spaces across Chicago and the Midwest.&nbsp\;</span></span></span></span></p><p dir="ltr" style="line-height:1.38\;margin-top:0pt\;margin-bottom:0pt\;"><span style="font-family: Arial\,Helvetica\,sans-serif\;"><span style="font-size: 14px\;"><span style="color: rgb(0\, 0\, 0)\;"><br></span></span></span></p><p dir="ltr" style="line-height:1.656\;margin-top:0pt\;margin-bottom:0pt\;"><span style="font-family: Arial\,Helvetica\,sans-serif\;"><span style="font-size: 14px\;"><span style="color: rgb(0\, 0\, 0)\;"><span style="background-color: rgb(255\, 255\, 255)\; font-weight: 400\; font-style: normal\; font-variant: normal\; text-decoration: none\; vertical-align: baseline\; white-space: pre-wrap\;">This is a PWC Member-Only event&ndash\; it&rsquo\;s easy to</span></span><span style="color: rgb(0\, 0\, 0)\; background-color: rgb(255\, 255\, 255)\; font-weight: 400\; font-style: normal\; font-variant: normal\; text-decoration: none\; vertical-align: baseline\; white-space: pre-wrap\;">&nbsp\;</span><a fr-original-style="text-decoration:none\;" href="https://www.pwcchicago.org/join/" style="text-decoration: none\; user-select: auto\;"><span style="color: rgb(255\, 0\, 0)\; background-color: rgb(255\, 255\, 255)\; font-weight: 400\; font-style: normal\; font-variant: normal\; text-decoration: underline\; text-decoration-skip-ink: none\; vertical-align: baseline\; white-space: pre-wrap\;">join today</span></a><span style="color: rgb(0\, 0\, 0)\; background-color: rgb(255\, 255\, 255)\; font-weight: 400\; font-style: normal\; font-variant: normal\; text-decoration: none\; vertical-align: baseline\; white-space: pre-wrap\;">!&nbsp\;</span></span></span></p><p dir="ltr" style="line-height:1.656\;margin-top:0pt\;margin-bottom:0pt\;"><span style="font-size: 14px\; font-family: Arial\, Helvetica\, sans-serif\; color: rgb(0\, 0\, 0)\; background-color: rgb(255\, 255\, 255)\; font-weight: 400\; font-style: normal\; font-variant: normal\; text-decoration: none\; vertical-align: baseline\; white-space: pre-wrap\;">Registration will close 5/13 or when capacity is reached.&nbsp\;</span></p></body></html>
LOCATION:600 West Jackson 8th Floor Chicago 60661
UID:e.3894.1423561
SEQUENCE:3
DTSTAMP:20260424T103312Z
URL:https://members.pwcchicago.org/events/Details/may-member-connect-1683166?sourceTypeId=Hub
END:VEVENT
END:VCALENDAR
